BEGIN:VCALENDAR
VERSION:2.0
PRODID:-//Surinaamse Genealogie - ECPv6.15.20//NONSGML v1.0//EN
CALSCALE:GREGORIAN
METHOD:PUBLISH
X-WR-CALNAME:Surinaamse Genealogie
X-ORIGINAL-URL:https://www.surinaamsegenealogie.nl
X-WR-CALDESC:Evenementen voor Surinaamse Genealogie
REFRESH-INTERVAL;VALUE=DURATION:PT1H
X-Robots-Tag:noindex
X-PUBLISHED-TTL:PT1H
BEGIN:VTIMEZONE
TZID:UTC
BEGIN:STANDARD
TZOFFSETFROM:+0000
TZOFFSETTO:+0000
TZNAME:UTC
DTSTART:20220101T000000
END:STANDARD
END:VTIMEZONE
BEGIN:VEVENT
DTSTART;TZID=UTC:20240113T100000
DTEND;TZID=UTC:20240113T143000
DTSTAMP:20260422T212608
CREATED:20231204T172050Z
LAST-MODIFIED:20231229T213454Z
UID:7548-1705140000-1705156200@www.surinaamsegenealogie.nl
SUMMARY:Gemeente Arnhem: workshop Surinaams stamboom- en DNA-onderzoek
DESCRIPTION:De Gemeente Arnhem organiseert in samenwerking met de SSG een workshop Surinaams stamboom- en DNA-onderzoek\n\nWanneer: zaterdag 13 januari of zaterdag 17 februari 2024\nTijd: 10.00 – 14.30 uur (inclusief lunch)\nWaar: Boerderijcafé De Hooijmaat\, Marius van Beeklaan 5 Arnhem (op het terrein van stadsboerderij De Korenmaat). Het café en toiletten zijn rolstoeltoegankelijk\nDoor: Pieter Bol en Sila Groeliker van Stichting voor Surinaamse Genealogie \n\nAanmelden via de website van de Gemeente Arnhem: https://www.arnhem.nl/stad_en_wijken/Inclusie_in_Arnhem/stamboomonderzoek\n \n 
URL:https://www.surinaamsegenealogie.nl/event/gemeente-arnhem-workshop-surinaams-stamboom-en-dna-onderzoek/
LOCATION:Boerderijcafé De Hooijmaat\, Marius van Beeklaan 5\, Arnhem
CATEGORIES:Workshop
END:VEVENT
BEGIN:VEVENT
DTSTART;TZID=UTC:20240112T133000
DTEND;TZID=UTC:20240112T170000
DTSTAMP:20260422T212608
CREATED:20231127T190654Z
LAST-MODIFIED:20231229T000104Z
UID:7493-1705066200-1705078800@www.surinaamsegenealogie.nl
SUMMARY:Contactmiddag van donateurs - CBG Den Haag
DESCRIPTION:
URL:https://www.surinaamsegenealogie.nl/event/contactdag-van-donateurs-2/
LOCATION:CBG Den Haag\, Prins Willem-Alexanderhof 22\, Den Haag\, 2595 BE
CATEGORIES:Contactmiddag
END:VEVENT
BEGIN:VEVENT
DTSTART;TZID=UTC:20231229T000000
DTEND;TZID=UTC:20231229T000000
DTSTAMP:20260422T212608
CREATED:20231229T001047Z
LAST-MODIFIED:20231229T213333Z
UID:7551-1703808000-1703808000@www.surinaamsegenealogie.nl
SUMMARY:On-line lezing Carl Haarnack - Benoit\, reis naar Suriname (1839-1840)
DESCRIPTION:
URL:https://www.surinaamsegenealogie.nl/event/on-line-lezing-carl-haarnack-benoit-reis-naar-suriname-1839-1840/
CATEGORIES:Online Lezing
END:VEVENT
END:VCALENDAR