BEGIN:VCALENDAR
VERSION:2.0
PRODID:-//Surinaamse Genealogie - ECPv6.15.14//NONSGML v1.0//EN
CALSCALE:GREGORIAN
METHOD:PUBLISH
X-WR-CALNAME:Surinaamse Genealogie
X-ORIGINAL-URL:https://www.surinaamsegenealogie.nl
X-WR-CALDESC:Evenementen voor Surinaamse Genealogie
REFRESH-INTERVAL;VALUE=DURATION:PT1H
X-Robots-Tag:noindex
X-PUBLISHED-TTL:PT1H
BEGIN:VTIMEZONE
TZID:UTC
BEGIN:STANDARD
TZOFFSETFROM:+0000
TZOFFSETTO:+0000
TZNAME:UTC
DTSTART:20230101T000000
END:STANDARD
END:VTIMEZONE
BEGIN:VEVENT
DTSTART;TZID=UTC:20241130T140000
DTEND;TZID=UTC:20241130T160000
DTSTAMP:20260420T000329
CREATED:20241118T133551Z
LAST-MODIFIED:20241118T133551Z
UID:8093-1732975200-1732982400@www.surinaamsegenealogie.nl
SUMMARY:Online lezing Michael Fry: "een overzicht van FamilySearch: over Stamboom en Bronnen
DESCRIPTION:Beste vriend van de Stichting \nWij nodigen u van harte uit voor de volgende door Michael Fry te verzorgen online-bijeenkomst. \n ‘Een Overzicht van FamilySearch: Over Stamboom en Bronnen’  \nDeze bijzondere bijeenkomst zal worden gehouden op: \nZaterdag 30 november 2024 van 14:00-15:30 uur (voor Suriname: 10:00-11:30 uur).* \nIn de bijlage vindt u informatie over het programma\, de samenvatting en biografie van de spreker: \nOnline lezing 30 nov – Een Overzicht van FamilySearch \nWilt u deze datum vastleggen in uw agenda? \nOp vrijdag 29 november ontvangt u een herinneringsmail met daarin de link die u toegang geeft tot de online-bijeenkomst. De bijeenkomst wordt gehouden door middel van ZOOM \nIndien u een introducé deze online bijeenkomst wilt laten bijwonen\, is dat ook mogelijk. Wel vragen wij u om de naam en het emailadres van de introducé door te geven op: info@surinaamsegenealogie.nl \nTevens vragen wij van hen een vrijwillige bijdrage\, die zij kunnen storten op: \nRekeningnummer: NL36RABO 0334996376 \nOp naam van: Stichting voor Surinaamse Genealogie \nOmschrijving: Onlinebijeenkomst 30/11/2024          
URL:https://www.surinaamsegenealogie.nl/event/online-lezing-michael-fry-een-overzicht-van-familysearch-over-stamboom-en-bronnen/
CATEGORIES:Online Lezing
END:VEVENT
BEGIN:VEVENT
DTSTART;TZID=UTC:20250125T140000
DTEND;TZID=UTC:20250125T160000
DTSTAMP:20260420T000329
CREATED:20241118T133953Z
LAST-MODIFIED:20250102T212424Z
UID:8098-1737813600-1737820800@www.surinaamsegenealogie.nl
SUMMARY:Online lezing Sirano Zalman- De Verbindende Werking van de Plantages
DESCRIPTION:
URL:https://www.surinaamsegenealogie.nl/event/nog-nader-in-te-vullen/
CATEGORIES:Online Lezing
END:VEVENT
BEGIN:VEVENT
DTSTART;TZID=UTC:20250222T140000
DTEND;TZID=UTC:20250222T160000
DTSTAMP:20260420T000329
CREATED:20241118T133829Z
LAST-MODIFIED:20241118T133850Z
UID:8096-1740232800-1740240000@www.surinaamsegenealogie.nl
SUMMARY:Online lezing Paul van der Heijden - Surinaamse militairen in Nederlands-Indië
DESCRIPTION:
URL:https://www.surinaamsegenealogie.nl/event/online-lezing-paul-van-der-heijden-surinaamse-militairen-in-nederlands-indie/
CATEGORIES:Online Lezing
END:VEVENT
BEGIN:VEVENT
DTSTART;TZID=UTC:20250322T140000
DTEND;TZID=UTC:20250322T160000
DTSTAMP:20260420T000329
CREATED:20241118T134131Z
LAST-MODIFIED:20250102T212703Z
UID:8100-1742652000-1742659200@www.surinaamsegenealogie.nl
SUMMARY:On line lezing Sila Groeliker - Voorouders uit Barbados zoeken: uitdagingen en mogelijkheden
DESCRIPTION:
URL:https://www.surinaamsegenealogie.nl/event/sila-groeliker-voorouders-uit-barbados-zoeken-uitdagingen-en-mogelijkheden/
CATEGORIES:Online Lezing
END:VEVENT
END:VCALENDAR